Workbook

Sheet CargaMasiva
A1: DNI/NIF | B1: Apellidos | C1: Nombre | D1: Importe | E1: Línea AD

Sheet Formulario
C3: Relación de perceptores de nómina
C5: =IF(NOT(ISBLANK(CargaMasiva!A2)), _xlfn.TEXTJOIN(CHAR(10), TRUE, "Debe anexar este archivo en formato Excel en el expediente de nómina para cualquier", "número de perceptores. Ya no se genera versión impresa/PDF de este formulario"), "")
B10: Nombre del curso o actividad
B13: El documento AD de nómina número | F13: contiene los siguientes perceptores:
B15: DNI/NIF | C15: Apellidos | E15: Nombre | F15: Importe | G15: Concepto | H15: Línea AD
B17: =IF(ISBLANK(CargaMasiva!A2),"",CargaMasiva!A2) | C17: =IF(ISBLANK(CargaMasiva!B2),"",CargaMasiva!B2) | E17: =IF(ISBLANK(CargaMasiva!C2),"",CargaMasiva!C2) | F17: =IF(ISBLANK(CargaMasiva!D2),"",CargaMasiva!D2) | H17: =IF(ISBLANK(CargaMasiva!E2),"",CargaMasiva!E2)
B18: =IF(ISBLANK(CargaMasiva!A3),"",CargaMasiva!A3) | C18: =IF(ISBLANK(CargaMasiva!B3),"",CargaMasiva!B3) | E18: =IF(ISBLANK(CargaMasiva!C3),"",CargaMasiva!C3) | F18: =IF(ISBLANK(CargaMasiva!D3),"",CargaMasiva!D3) | H18: =IF(ISBLANK(CargaMasiva!E3),"",CargaMasiva!E3)
B19: =IF(ISBLANK(CargaMasiva!A4),"",CargaMasiva!A4) | C19: =IF(ISBLANK(CargaMasiva!B4),"",CargaMasiva!B4) | E19: =IF(ISBLANK(CargaMasiva!C4),"",CargaMasiva!C4) | F19: =IF(ISBLANK(CargaMasiva!D4),"",CargaMasiva!D4) | H19: =IF(ISBLANK(CargaMasiva!E4),"",CargaMasiva!E4)
B20: =IF(ISBLANK(CargaMasiva!A5),"",CargaMasiva!A5) | C20: =IF(ISBLANK(CargaMasiva!B5),"",CargaMasiva!B5) | E20: =IF(ISBLANK(CargaMasiva!C5),"",CargaMasiva!C5) | F20: =IF(ISBLANK(CargaMasiva!D5),"",CargaMasiva!D5) | H20: =IF(ISBLANK(CargaMasiva!E5),"",CargaMasiva!E5)
B21: =IF(ISBLANK(CargaMasiva!A6),"",CargaMasiva!A6) | C21: =IF(ISBLANK(CargaMasiva!B6),"",CargaMasiva!B6) | E21: =IF(ISBLANK(CargaMasiva!C6),"",CargaMasiva!C6) | F21: =IF(ISBLANK(CargaMasiva!D6),"",CargaMasiva!D6) | H21: =IF(ISBLANK(CargaMasiva!E6),"",CargaMasiva!E6)
B22: =IF(ISBLANK(CargaMasiva!A7),"",CargaMasiva!A7) | C22: =IF(ISBLANK(CargaMasiva!B7),"",CargaMasiva!B7) | E22: =IF(ISBLANK(CargaMasiva!C7),"",CargaMasiva!C7) | F22: =IF(ISBLANK(CargaMasiva!D7),"",CargaMasiva!D7) | H22: =IF(ISBLANK(CargaMasiva!E7),"",CargaMasiva!E7)
B23: =IF(ISBLANK(CargaMasiva!A8),"",CargaMasiva!A8) | C23: =IF(ISBLANK(CargaMasiva!B8),"",CargaMasiva!B8) | E23: =IF(ISBLANK(CargaMasiva!C8),"",CargaMasiva!C8) | F23: =IF(ISBLANK(CargaMasiva!D8),"",CargaMasiva!D8) | H23: =IF(ISBLANK(CargaMasiva!E8),"",CargaMasiva!E8)
B24: =IF(ISBLANK(CargaMasiva!A9),"",CargaMasiva!A9) | C24: =IF(ISBLANK(CargaMasiva!B9),"",CargaMasiva!B9) | E24: =IF(ISBLANK(CargaMasiva!C9),"",CargaMasiva!C9) | F24: =IF(ISBLANK(CargaMasiva!D9),"",CargaMasiva!D9) | H24: =IF(ISBLANK(CargaMasiva!E9),"",CargaMasiva!E9)
B25: =IF(ISBLANK(CargaMasiva!A10),"",CargaMasiva!A10) | C25: =IF(ISBLANK(CargaMasiva!B10),"",CargaMasiva!B10) | E25: =IF(ISBLANK(CargaMasiva!C10),"",CargaMasiva!C10) | F25: =IF(ISBLANK(CargaMasiva!D10),"",CargaMasiva!D10) | H25: =IF(ISBLANK(CargaMasiva!E10),"",CargaMasiva!E10)
B26: =IF(ISBLANK(CargaMasiva!A11),"",CargaMasiva!A11) | C26: =IF(ISBLANK(CargaMasiva!B11),"",CargaMasiva!B11) | E26: =IF(ISBLANK(CargaMasiva!C11),"",CargaMasiva!C11) | F26: =IF(ISBLANK(CargaMasiva!D11),"",CargaMasiva!D11) | H26: =IF(ISBLANK(CargaMasiva!E11),"",CargaMasiva!E11)
B27: =IF(ISBLANK(CargaMasiva!A12),"",CargaMasiva!A12) | C27: =IF(ISBLANK(CargaMasiva!B12),"",CargaMasiva!B12) | E27: =IF(ISBLANK(CargaMasiva!C12),"",CargaMasiva!C12) | F27: =IF(ISBLANK(CargaMasiva!D12),"",CargaMasiva!D12) | H27: =IF(ISBLANK(CargaMasiva!E12),"",CargaMasiva!E12)
E30: Total importe | F30: =SUM(F17:F27) -> 0
B32: Subtotales por NIF | G32: Subtotales por líneas AD
B33: =IFERROR(INDEX($B$17:$B$27, MATCH(0, INDEX(COUNTIF($B$32:B32, $B$17:$B$27), 0, 0), 0)), "") | C33: =SUMIF($B$17:$B$27,B33,$F$17:$F$27) -> 0 | G33: =IFERROR(INDEX($H$17:$H$27, MATCH(0, INDEX(COUNTIF($G$32:G32, $H$17:$H$27), 0, 0), 0)), "") | H33: =SUMIF($H$17:$H$27,G33,$F$17:$F$27) -> 0
B34: =IFERROR(INDEX($B$17:$B$27, MATCH(0, INDEX(COUNTIF($B$32:B33, $B$17:$B$27), 0, 0), 0)), "") | C34: =SUMIF($B$17:$B$27,B34,$F$17:$F$27) -> 0 | E34: Conferencias | G34: =IFERROR(INDEX($H$17:$H$27, MATCH(0, INDEX(COUNTIF($G$32:G33, $H$17:$H$27), 0, 0), 0)), "") | H34: =SUMIF($H$17:$H$27,G34,$F$17:$F$27) -> 0
B35: =IFERROR(INDEX($B$17:$B$27, MATCH(0, INDEX(COUNTIF($B$32:B34, $B$17:$B$27), 0, 0), 0)), "") | C35: =SUMIF($B$17:$B$27,B35,$F$17:$F$27) -> 0 | E35: Coordinación | G35: =IFERROR(INDEX($H$17:$H$27, MATCH(0, INDEX(COUNTIF($G$32:G34, $H$17:$H$27), 0, 0), 0)), "") | H35: =SUMIF($H$17:$H$27,G35,$F$17:$F$27) -> 0
B36: =IFERROR(INDEX($B$17:$B$27, MATCH(0, INDEX(COUNTIF($B$32:B35, $B$17:$B$27), 0, 0), 0)), "") | C36: =SUMIF($B$17:$B$27,B36,$F$17:$F$27) -> 0 | E36: Dirección | G36: =IFERROR(INDEX($H$17:$H$27, MATCH(0, INDEX(COUNTIF($G$32:G35, $H$17:$H$27), 0, 0), 0)), "") | H36: =SUMIF($H$17:$H$27,G36,$F$17:$F$27) -> 0
B37: =IFERROR(INDEX($B$17:$B$27, MATCH(0, INDEX(COUNTIF($B$32:B36, $B$17:$B$27), 0, 0), 0)), "") | C37: =SUMIF($B$17:$B$27,B37,$F$17:$F$27) -> 0 | E37: Lecciones | G37: =IFERROR(INDEX($H$17:$H$27, MATCH(0, INDEX(COUNTIF($G$32:G36, $H$17:$H$27), 0, 0), 0)), "") | H37: =SUMIF($H$17:$H$27,G37,$F$17:$F$27) -> 0
B38: =IFERROR(INDEX($B$17:$B$27, MATCH(0, INDEX(COUNTIF($B$32:B37, $B$17:$B$27), 0, 0), 0)), "") | C38: =SUMIF($B$17:$B$27,B38,$F$17:$F$27) -> 0 | E38: Otras retribuciones | G38: =IFERROR(INDEX($H$17:$H$27, MATCH(0, INDEX(COUNTIF($G$32:G37, $H$17:$H$27), 0, 0), 0)), "") | H38: =SUMIF($H$17:$H$27,G38,$F$17:$F$27) -> 0
B39: =IFERROR(INDEX($B$17:$B$27, MATCH(0, INDEX(COUNTIF($B$32:B38, $B$17:$B$27), 0, 0), 0)), "") | C39: =SUMIF($B$17:$B$27,B39,$F$17:$F$27) -> 0 | E39: Tutorías | G39: =IFERROR(INDEX($H$17:$H$27, MATCH(0, INDEX(COUNTIF($G$32:G38, $H$17:$H$27), 0, 0), 0)), "") | H39: =SUMIF($H$17:$H$27,G39,$F$17:$F$27) -> 0
B40: =IFERROR(INDEX($B$17:$B$27, MATCH(0, INDEX(COUNTIF($B$32:B39, $B$17:$B$27), 0, 0), 0)), "") | C40: =SUMIF($B$17:$B$27,B40,$F$17:$F$27) -> 0 | G40: =IFERROR(INDEX($H$17:$H$27, MATCH(0, INDEX(COUNTIF($G$32:G39, $H$17:$H$27), 0, 0), 0)), "") | H40: =SUMIF($H$17:$H$27,G40,$F$17:$F$27) -> 0
B41: =IFERROR(INDEX($B$17:$B$27, MATCH(0, INDEX(COUNTIF($B$32:B40, $B$17:$B$27), 0, 0), 0)), "") | C41: =SUMIF($B$17:$B$27,B41,$F$17:$F$27) -> 0 | G41: =IFERROR(INDEX($H$17:$H$27, MATCH(0, INDEX(COUNTIF($G$32:G40, $H$17:$H$27), 0, 0), 0)), "") | H41: =SUMIF($H$17:$H$27,G41,$F$17:$F$27) -> 0
B42: =IFERROR(INDEX($B$17:$B$27, MATCH(0, INDEX(COUNTIF($B$32:B41, $B$17:$B$27), 0, 0), 0)), "") | C42: =SUMIF($B$17:$B$27,B42,$F$17:$F$27) -> 0 | G42: =IFERROR(INDEX($H$17:$H$27, MATCH(0, INDEX(COUNTIF($G$32:G41, $H$17:$H$27), 0, 0), 0)), "") | H42: =SUMIF($H$17:$H$27,G42,$F$17:$F$27) -> 0
B43: =IFERROR(INDEX($B$17:$B$27, MATCH(0, INDEX(COUNTIF($B$32:B42, $B$17:$B$27), 0, 0), 0)), "") | C43: =SUMIF($B$17:$B$27,B43,$F$17:$F$27) -> 0 | G43: =IFERROR(INDEX($H$17:$H$27, MATCH(0, INDEX(COUNTIF($G$32:G42, $H$17:$H$27), 0, 0), 0)), "") | H43: =SUMIF($H$17:$H$27,G43,$F$17:$F$27) -> 0
